BEGIN:VCALENDAR
VERSION:2.0
PRODID:-//wp-events-plugin.com//6.6.4.4//EN
BEGIN:VEVENT
UID:47@caeciliacamerata.nl
DTSTART;TZID=Europe/Amsterdam:20260207T210000
DTEND;TZID=Europe/Amsterdam:20260207T221500
DTSTAMP:20251202T203458Z
URL:http://www.caeciliacamerata.nl/events/gustav-mahler-vierde-symfonie-2/
SUMMARY:Gustav Mahler: Vierde symfonie
DESCRIPTION:\n\nEen heerlijk zonnige\, lichte symfonie – wat wil je nog m
 eer in de wintermaanden?\n\nWe nodigen je graag uit voor onze winterconcer
 ten op 6\, 7 en 8 februari 2026. Met ditmaal een fantastische soliste: so
 praan Nikki Treurniet.\n\nDirigent Jasper de Waal:\n“Voor mij is het een
  groot voorrecht om Mahlers vierde symfonie te mogen dirigeren. Dit is mis
 schien wel zijn meest speelse symfonie: licht\, onschuldig en bijna paradi
 jselijk van karakter. De transparante orkestratie geeft mij als dirigent d
 e kans om elk detail en elke kleur tot leven te brengen. Maar juist achter
  die ogenschijnlijke eenvoud schuilt een enorme rijkdom aan emoties – va
 n humor en lichtheid tot diepe ontroering.”\n\n
LOCATION:Heuvellaan Hilverum (voorheen MCO)\, Heuvellaan 33\, Hilversum\, 1
 217 JL \, Nederland
GEO:52.232554;5.163864
X-APPLE-STRUCTURED-LOCATION;VALUE=URI;X-ADDRESS=Heuvellaan 33\, Hilversum\,
  1217 JL \, Nederland;X-APPLE-RADIUS=100;X-TITLE=Heuvellaan Hilverum (voor
 heen MCO):geo:52.232554,5.163864
END:VEVENT
BEGIN:VTIMEZONE
TZID:Europe/Amsterdam
X-LIC-LOCATION:Europe/Amsterdam
BEGIN:STANDARD
DTSTART:20251026T020000
TZOFFSETFROM:+0200
TZOFFSETTO:+0100
TZNAME:CET
END:STANDARD
END:VTIMEZONE
END:VCALENDAR