BEGIN:VCALENDAR
VERSION:2.0
PRODID:-//wp-events-plugin.com//6.6.4.4//EN
BEGIN:VEVENT
UID:48@caeciliacamerata.nl
DTSTART;TZID=Europe/Amsterdam:20260208T160000
DTEND;TZID=Europe/Amsterdam:20260208T171500
DTSTAMP:20251202T203547Z
URL:http://www.caeciliacamerata.nl/events/gustav-mahler-vierde-symfonie-3/
SUMMARY:Gustav Mahler: Vierde symfonie
DESCRIPTION:\n\nEen heerlijk zonnige\, lichte symfonie – wat wil je nog m
 eer in de wintermaanden?\n\nWe nodigen je graag uit voor onze winterconcer
 ten op 6\, 7 en 8 februari 2026. Met ditmaal een fantastische soliste: so
 praan Nikki Treurniet.\n\nDirigent Jasper de Waal:\n“Voor mij is het een
  groot voorrecht om Mahlers vierde symfonie te mogen dirigeren. Dit is mis
 schien wel zijn meest speelse symfonie: licht\, onschuldig en bijna paradi
 jselijk van karakter. De transparante orkestratie geeft mij als dirigent d
 e kans om elk detail en elke kleur tot leven te brengen. Maar juist achter
  die ogenschijnlijke eenvoud schuilt een enorme rijkdom aan emoties – va
 n humor en lichtheid tot diepe ontroering.”\n\n
LOCATION:Nicolaïkerk\, Nicolaaskerkhof 8\, Utrecht\, 3512XC\, Nederland
GEO:52.083337;5.125387
X-APPLE-STRUCTURED-LOCATION;VALUE=URI;X-ADDRESS=Nicolaaskerkhof 8\, Utrecht
 \, 3512XC\, Nederland;X-APPLE-RADIUS=100;X-TITLE=Nicolaïkerk:geo:52.08333
 7,5.125387
END:VEVENT
BEGIN:VTIMEZONE
TZID:Europe/Amsterdam
X-LIC-LOCATION:Europe/Amsterdam
BEGIN:STANDARD
DTSTART:20251026T020000
TZOFFSETFROM:+0200
TZOFFSETTO:+0100
TZNAME:CET
END:STANDARD
END:VTIMEZONE
END:VCALENDAR