BEGIN:VCALENDAR
VERSION:2.0
PRODID:-//wp-events-plugin.com//6.6.4.4//EN
BEGIN:VEVENT
UID:46@caeciliacamerata.nl
DTSTART;TZID=Europe/Amsterdam:20260206T201500
DTEND;TZID=Europe/Amsterdam:20260206T213000
DTSTAMP:20251202T203349Z
URL:http://www.caeciliacamerata.nl/events/gustav-mahler-vierde-symfonie/
SUMMARY:Gustav Mahler: Vierde symfonie
DESCRIPTION:\n\nEen heerlijk zonnige\, lichte symfonie – wat wil je nog m
 eer in de wintermaanden?\n\nWe nodigen je graag uit voor onze winterconcer
 ten op 6\, 7 en 8 februari 2026. Met ditmaal een fantastische soliste: so
 praan Nikki Treurniet.\n\nDirigent Jasper de Waal:\n“Voor mij is het een
  groot voorrecht om Mahlers vierde symfonie te mogen dirigeren. Dit is mis
 schien wel zijn meest speelse symfonie: licht\, onschuldig en bijna paradi
 jselijk van karakter. De transparante orkestratie geeft mij als dirigent d
 e kans om elk detail en elke kleur tot leven te brengen. Maar juist achter
  die ogenschijnlijke eenvoud schuilt een enorme rijkdom aan emoties – va
 n humor en lichtheid tot diepe ontroering.”\n\n
LOCATION:De Duif\, Prinsengracht 756\, Amsterdam\, 1017 LD\, Nederland
X-APPLE-STRUCTURED-LOCATION;VALUE=URI;X-ADDRESS=Prinsengracht 756\, Amsterd
 am\, 1017 LD\, Nederland;X-APPLE-RADIUS=100;X-TITLE=De Duif:geo:0,0
END:VEVENT
BEGIN:VTIMEZONE
TZID:Europe/Amsterdam
X-LIC-LOCATION:Europe/Amsterdam
BEGIN:STANDARD
DTSTART:20251026T020000
TZOFFSETFROM:+0200
TZOFFSETTO:+0100
TZNAME:CET
END:STANDARD
END:VTIMEZONE
END:VCALENDAR